Workbook

Sheet Fasteignamarkaður
A1: Mánaðarskýrsla HMS - september 2026
A2: Fasteignamarkaður
A4: Myndir | B4: Titill
A5: FM.1 | B5: Fjöldi útgefinna kaupsamninga í mánuði
A6: FM.2 | B6: Fjöldi kaupsamninga og fjöldi íbúða tekinn af söluskrá
A7: FM.3 | B7: Lækkar verð í söluferli fasteigna?
A8: FM.4 | B8: Er fasteignamarkaðurinn kaupenda- eða seljendamarkaður?
A9: FM.5 | B9: Fyrstu kaupendur - Fjöldi og hlutfall fyrstu kaupenda eftir árshelmingum
A10: FM.6 | B10: Vísitala íbúðaverðs
A11: FM.7 | B11: Hlutfall fólks sem á fasteign eftir launatíundum - Allir og fullir þáttakendur á vinnumarkaði
A12: FM.8 | B12: Hlutfall fólks sem á fasteign eftir ríkisfangi og aldri - Íslenskir og erlendir ríkisborgarar
A13: FM.9 | B13: Hlutfall samninga sem seldust yfir, undir og á auglýstu verði
A14: FM.10 | B14: Miðgildi afsláttar og álags á auglýst verð
A15: FM.11 | B15: Miðgildi verðmunar í milljónum króna
... A17: FM.13 | B17: Framboð íbúða til sölu eftir lengd sölutilraunar

Sheet FM.1
A1: Fjöldi útgefinna kaupsamninga á mánuði
A2: Mánuður | B2: Fjöldi kaupsamninga
A3: 42370 | B3: 617
A4: 42401 | B4: 850
A5: 42430 | B5: 981
A6: 42461 | B6: 970
A7: 42491 | B7: 1023
A8: 42522 | B8: 1020
A9: 42552 | B9: 944
A10: 42583 | B10: 850
A11: 42614 | B11: 1051
A12: 42644 | B12: 946
A13: 42675 | B13: 1070
A14: 42705 | B14: 1004
... A129: 46204 | B129: 927

Sheet FM.2
A1: Fjöldi kaupsamninga og fjöldi íbúða tekinn af söluskrá
A2: Dags. | B2: Tegund | C2: Fjöldi
A3: 41640 | B3: Tekið af söluskrá | C3: 819
A4: 41671 | B4: Tekið af söluskrá | C4: 732
A5: 41699 | B5: Tekið af söluskrá | C5: 795
A6: 41730 | B6: Tekið af söluskrá | C6: 691
A7: 41760 | B7: Tekið af söluskrá | C7: 772
A8: 41791 | B8: Tekið af söluskrá | C8: 675
A9: 41821 | B9: Tekið af söluskrá | C9: 751
A10: 41852 | B10: Tekið af söluskrá | C10: 659
A11: 41883 | B11: Tekið af söluskrá | C11: 780
A12: 41913 | B12: Tekið af söluskrá | C12: 664
A13: 41944 | B13: Tekið af söluskrá | C13: 659
A14: 41974 | B14: Tekið af söluskrá | C14: 465
... A305: 46204 | B305: Fjöldi kaupsamninga | C305: 924

Sheet FM.3
A1: Lækkar verð í söluferli fasteigna?
A2: Dags. | B2: Oft/Alltaf | C2: Sjaldan/Aldrei | D2: Stundum
A3: 45779.52 | B3: 0.28571429 | C3: 0.15 | D3: 0.56428571
A4: 45824.427 | B4: 0.31578947 | C4: 0.061403509 | D4: 0.62280702
A5: 45840.52 | B5: 0.45360825 | C5: 0.11340206 | D5: 0.43298969
A6: 45876.345 | B6: 0.49107143 | C6: 0.16071429 | D6: 0.34821429
A7: 45902.68 | B7: 0.49484536 | C7: 0.11340206 | D7: 0.39175258
A8: 45932.917 | B8: 0.52525253 | C8: 0.090909091 | D8: 0.38383838
A9: 45965.729 | B9: 0.5 | C9: 0.035714286 | D9: 0.46428571
A10: 45993.25 | B10: 0.53061224 | C10: 0.06122449 | D10: 0.40816327
A11: 46030.435 | B11: 0.44578313 | C11: 0.084337349 | D11: 0.46987952
A12: 46055.368 | B12: 0.48 | C12: 0.093333333 | D12: 0.42666667
A13: 46084.25 | B13: 0.64210526 | C13: 0.031578947 | D13: 0.32631579
A14: 46120.292 | B14: 0.64197531 | C14: 0.049382716 | D14: 0.30864198
... A19: 46272.292 | B19: 0.69736842 | C19: 0.026315789 | D19: 0.27631579

Sheet FM.4
A1: Er fasteignamarkaðurinn kaupenda eða seljendamarkaður?
A2: Dags. | B2: Mikill kaupendamarkaður | C2: Kaupendamarkaður | D2: Hvorki kaupenda- né seljendamarkaður | E2: Seljendamarkaður | F2: Mikill seljendamarkaður | G2: Meðaltalsniðurstaða
A3: =MIN([1]Maí25!L:L) -> 45779.52 | B3: 0.085714286 | C3: 0.34285714 | D3: 0.54285714 | E3: 0.028571429 | F3: 0 | G3: 1.5142857
A4: =MIN([1]Jún25!P:P) -> 45824.427 | B4: 0.079646018 | C4: 0.48672566 | D4: 0.4159292 | E4: 0.017699115 | F4: 0 | G4: 1.3716814
A5: =MIN([1]Júl25!P:P) -> 45840.52 | B5: 0.14285714 | C5: 0.54081633 | D5: 0.31632653 | E5: 0 | F5: 0 | G5: 1.1734694
A6: =MIN([1]Ág25!P:P) -> 45876.345 | B6: 0.14912281 | C6: 0.50877193 | D6: 0.30701754 | E6: 0.026315789 | F6: 0.0087719298 | G6: 1.2368421
A7: =MIN([1]Sept25!P:P) -> 45902.68 | B7: 0.13402062 | C7: 0.55670103 | D7: 0.28865979 | E7: 0.020618557 | F7: 0 | G7: 1.1958763
A8: =MIN([1]Okt25!P:P) -> 45932.917 | B8: 0.21568627 | C8: 0.57843137 | D8: 0.19607843 | E8: 0 | F8: 0.0098039216 | G8: 1.0098039
A9: =MIN([1]Nóv25!P:P) -> 45965.729 | B9: 0.36046512 | C9: 0.45348837 | D9: 0.1744186 | E9: 0.011627907 | F9: 0 | G9: 0.8372093
A10: =MIN([1]Des25!P:P) -> 45993.25 | B10: 0.23469388 | C10: 0.54081633 | D10: 0.21428571 | E10: 0.010204082 | F10: 0 | G10: 1
A11: =MIN([1]Jan26!P:P) -> 46030.435 | B11: 0.28915663 | C11: 0.4939759 | D11: 0.20481928 | E11: 0 | F11: 0.012048193 | G11: 0.95180723
A12: =MIN([1]Feb26!P:P) -> 46055.368 | B12: 0.22077922 | C12: 0.62337662 | D12: 0.15584416 | E12: 0 | F12: 0 | G12: 0.93506494
A13: =MIN([1]Mar26!P:P) -> 46084.25 | B13: 0.36633663 | C13: 0.55445545 | D13: 0.069306931 | E13: 0.0099009901 | F13: 0 | G13: 0.72277228
A14: =MIN([1]Apr26!P:P) -> 46120.292 | B14: 0.38823529 | C14: 0.44705882 | D14: 0.15294118 | E14: 0.011764706 | F14: 0 | G14: 0.78823529
A15: =MIN([1]Maí26!P:P) -> 46146.542 | B15: 0.35294118 | C15: 0.47058824 | D15: 0.17647059 | E15: 0 | F15: 0 | G15: 0.82352941
A16: =MIN([1]Jún26!P:P) -> 46174.381 | B16: 0.39423077 | C16: 0.50961538 | D16: 0.096153846 | E16: 0 | F16: 0 | G16: 0.70192308
A17: =MIN([1]Júl26!P:P) -> 46212.434 | B17: 0.35802469 | C17: 0.50617284 | D17: 0.13580247 | E17: 0 | F17: 0 | G17: 0.77777778
A18: =MIN([1]Ág26!P:P) -> 46245.258 | B18: 0.37681159 | C18: 0.49275362 | D18: 0.13043478 | E18: 0 | F18: 0 | G18: 0.75362319
A19: =MIN([1]Sept26!P:P) -> 46272.292 | B19: 0.5125 | C19: 0.375 | D19: 0.1125 | E19: 0 | F19: 0 | G19: 0.6

Sheet FM.5
A1: Fyrstu kaupendur - fjöldi og hlutdeild fyrstu kaupenda eftir árshelmingum
A2: Ár | B2: Kaupsamningar fyrstu kaupenda | C2: Hlutfall fyrstu kaupa (hægri ás)
A3: 2007 | B3: 2182 | C3: 0.32475071
B4: 1990 | C4: 0.30757342
A5: 2008 | B5: 781 | C5: 0.29305816
B6: 755 | C6: 0.30579182
A7: 2009 | B7: 322 | C7: 0.23198847
B8: 461 | C8: 0.27787824
A9: 2010 | B9: 536 | C9: 0.31235431
B10: 776 | C10: 0.33190761
A11: 2011 | B11: 921 | C11: 0.33333333
B12: 1049 | C12: 0.32197667
A13: 2012 | B13: 1100 | C13: 0.34246575
B14: 1174 | C14: 0.3263831
A15: 2013 | B15: 1088 | C15: 0.31381598
B16: 1268 | C16: 0.31300913
A17: 2014 | B17: 1248 | C17: 0.31325301
B18: 1364 | C18: 0.30658575
A19: 2015 | B19: 1505 | C19: 0.30897146
B20: 1652 | C20: 0.30626622
A21: 2016 | B21: 1696 | C21: 0.31454006
B22: 1760 | C22: 0.3035006
A23: 2017 | B23: 1711 | C23: 0.32553272
B24: 1643 | C24: 0.31590079
A25: 2018 | B25: 1864 | C25: 0.33841685
B26: 1909 | C26: 0.33656559
A27: 2019 | B27: 1732 | C27: 0.34709419
B28: 2039 | C28: 0.34512525
A29: 2020 | B29: 1961 | C29: 0.37154225
B30: 2871 | C30: 0.36254578
A31: 2021 | B31: 2874 | C31: 0.37261766
B32: 2311 | C32: 0.35685608
A33: 2022 | B33: 1857 | C33: 0.34079648
B34: 1503 | C34: 0.30642202
A35: 2023 | B35: 1243 | C35: 0.30089567
B36: 1708 | C36: 0.33503335
A37: 2024 | B37: 1930 | C37: 0.26981686
B38: 1877 | C38: 0.31158699
A39: 2025 | B39: 1935 | C39: 0.34241727
B40: 1986 | C40: 0.33083458
...

Sheet FM.6
A1: Vísitala íbúðaverðs
A2: Mánuður | B2: 12 mánaða breyting á vísitölu íbúðaverðs | C2: 12 mánaða breyting á vísitölu leiguverðs
A3: 44197 | B3: 0.031839274 | C3: -0.060422586
A4: 44228 | B4: 0.061006846 | C4: -0.068647039
A5: 44256 | B5: 0.068871609 | C5: -0.047274525
A6: 44287 | B6: 0.10562825 | C6: -0.034432282
A7: 44317 | B7: 0.093472019 | C7: -0.0093816327
A8: 44348 | B8: 0.10768829 | C8: -0.03267044
A9: 44378 | B9: 0.11725657 | C9: -0.024775132
A10: 44409 | B10: 0.12369204 | C10: -0.0075361105
A11: 44440 | B11: 0.12697617 | C11: -0.017586403
A12: 44470 | B12: 0.14163072 | C12: -0.014413287
A13: 44501 | B13: 0.12986621 | C13: -0.014291503
A14: 44531 | B14: 0.15150469 | C14: -0.011046465
... A70: 46235 | B70: -0.031964469 | C70: -0.013094495

Sheet FM.7
A1: Hlutfall fólks sem á fasteign, fullir þátttakendur á vinnumarkaði
A3: Tekjutíund launatekna | B3: 1 | C3: 2 | D3: 3 | E3: 4 | F3: 5 | G3: 6 | H3: 7 | I3: 8 | J3: 9 | K3: 10
A4: 2015 | B4: 0.61846832 | C4: 0.63096016 | D4: 0.66696604 | E4: 0.70378837 | F4: 0.75465382 | G4: 0.78861855 | H4: 0.81956238 | I4: 0.86339512 | J4: 0.90503797 | K4: 0.94512942
A5: 2018 | B5: 0.55891789 | C5: 0.56212629 | D5: 0.58516844 | E5: 0.65057605 | F5: 0.70191046 | G5: 0.74885145 | H5: 0.78655291 | I5: 0.8442354 | J5: 0.88879166 | K5: 0.93167068
A6: 2023 | B6: 0.52704058 | C6: 0.54742964 | D6: 0.59188448 | E6: 0.6395481 | F6: 0.70512735 | G6: 0.75885814 | H6: 0.79582832 | I6: 0.8465704 | J6: 0.89216473 | K6: 0.93615457
A7: 2025 | B7: 0.49881661 | C7: 0.51576793 | D7: 0.56655792 | E7: 0.62457622 | F7: 0.68656048 | G7: 0.74617796 | H7: 0.79357769 | I7: 0.83323738 | J7: 0.88441118 | K7: 0.92931167
A10: Hlutfall fólks sem á fasteign, allir 25 ára og eldri
A12: Tekjutíund ráðstöfunartekna | B12: 1 | C12: 2 | D12: 3 | E12: 4 | F12: 5 | G12: 6 | H12: 7 | I12: 8 | J12: 9 | K12: 10
A13: 2015 | B13: 0.45444669 | C13: 0.67808997 | D13: 0.67501235 | E13: 0.64888889 | F13: 0.66898765 | G13: 0.71367901 | H13: 0.76701235 | I13: 0.8142716 | J13: 0.88217284 | K13: 0.94167901
A14: 2018 | B14: 0.41614198 | C14: 0.59042796 | D14: 0.64627247 | E14: 0.60496418 | F14: 0.63822603 | G14: 0.6855409 | H14: 0.7342702 | I14: 0.78961537 | J14: 0.86384998 | K14: 0.92827486
A15: 2023 | B15: 0.3602008 | C15: 0.57068273 | D15: 0.62297189 | E15: 0.58666667 | F15: 0.63120482 | G15: 0.687751 | H15: 0.73959839 | I15: 0.80682731 | J15: 0.87111932 | K15: 0.93063978
A16: 2025 | B16: 0.32415515 | C16: 0.54301075 | D16: 0.61013825 | E16: 0.57663505 | F16: 0.61242751 | G16: 0.66961097 | H16: 0.73197895 | I16: 0.79484619 | J16: 0.8681593 | K16: 0.9257652

Sheet FM.8
A1: Íslenskir ríkisborgarar - Hlutfall fólks sem á fasteign
A3: Aldurshópur | B3: 25-29 | C3: 30-39 | D3: 40-49 | E3: 50-59 | F3: 60-69 | G3: 70-79 | H3: 80+
A4: 2015 | B4: 0.33129763 | C4: 0.64860062 | D4: 0.80480531 | E4: 0.85376937 | F4: 0.88400484 | G4: 0.87038074 | H4: 0.75838868
A5: 2018 | B5: 0.36833072 | C5: 0.65485232 | D5: 0.7769524 | E5: 0.82707044 | F5: 0.85788677 | G5: 0.84995565 | H5: 0.75038194
A6: 2023 | B6: 0.4745472 | C6: 0.70230804 | D6: 0.79117701 | E6: 0.83113408 | F6: 0.84590379 | G6: 0.8428651 | H6: 0.76220594
A7: 2025 | B7: 0.49183517 | C7: 0.71136905 | D7: 0.78169853 | E7: 0.82637904 | F7: 0.84202182 | G7: 0.83877253 | H7: 0.76780298
A9: Erlendir ríkisborgarar - Hlutfall fólks sem á fasteign
A11: Aldurshópur | B11: 25-29 | C11: 30-39 | D11: 40-49 | E11: 50-59 | F11: 60-69 | G11: 70-79 | H11: 80+
A12: 2015 | B12: 0.16028607 | C12: 0.33724111 | D12: 0.42404409 | E12: 0.31413333 | F12: 0.32517007 | G12: 0.25748503 | H12: 0.17391304
A13: 2018 | B13: 0.12109784 | C13: 0.26568696 | D13: 0.33996489 | E13: 0.28210383 | F13: 0.2461786 | G13: 0.22834646 | H13: 0.25373134
A14: 2023 | B14: 0.10547945 | C14: 0.21399567 | D14: 0.30491767 | E14: 0.27012628 | F14: 0.2020284 | G14: 0.11777077 | H14: 0.21323529
A15: 2025 | B15: 0.089568846 | C15: 0.19229876 | D15: 0.2713303 | E15: 0.26058684 | F15: 0.18618421 | G15: 0.094964029 | H15: 0.14920635

Sheet FM.9
A1: Hlutfall samninga sem seldust yfir, undir og á auglýstu verði
A2: Mánuður | B2: Hlutfall undir | C2: Hlutfall yfir | D2: Jafnt
A3: 45536 | B3: 0.56682578 | C3: 0.20286396 | D3: =1-B3-C3 -> 0.23031026
A4: 45566 | B4: 0.64807931 | C4: 0.16976456 | D4: =1-B4-C4 -> 0.18215613
A5: 45597 | B5: 0.63307087 | C5: 0.14330709 | D5: =1-B5-C5 -> 0.22362205
A6: 45627 | B6: 0.68843284 | C6: 0.11380597 | D6: =1-B6-C6 -> 0.19776119
A7: 45658 | B7: 0.68839428 | C7: 0.12559618 | D7: =1-B7-C7 -> 0.18600954
A8: 45689 | B8: 0.6871345 | C8: 0.11695906 | D8: =1-B8-C8 -> 0.19590643
A9: 45717 | B9: 0.67738095 | C9: 0.14285714 | D9: =1-B9-C9 -> 0.1797619
A10: 45748 | B10: 0.65671642 | C10: 0.13283582 | D10: =1-B10-C10 -> 0.21044776
A11: 45778 | B11: 0.66395664 | C11: 0.12330623 | D11: =1-B11-C11 -> 0.21273713
A12: 45809 | B12: 0.69726027 | C12: 0.11780822 | D12: =1-B12-C12 -> 0.18493151
A13: 45839 | B13: 0.70710383 | C13: 0.11584699 | D13: =1-B13-C13 -> 0.17704918
A14: 45870 | B14: 0.71316614 | C14: 0.10031348 | D14: =1-B14-C14 -> 0.18652038
... A25: 46204 | B25: 0.79239766 | C25: 0.058479532 | D25: =1-B25-C25 -> 0.14912281

Sheet FM.10
A1: Miðgildi afsláttar og álags á auglýst verð
A2: Mánuður | B2: Miðgildi undir | C2: Miðgildi yfir
A3: 45536 | B3: -0.025367156 | C3: 0.013475649
A4: 45566 | B4: -0.02440361 | C4: 0.012024048
A5: 45597 | B5: -0.024880498 | C5: 0.011342155
A6: 45627 | B6: -0.025367156 | C6: 0.012235818
A7: 45658 | B7: -0.024081115 | C7: 0.016684046
A8: 45689 | B8: -0.022601199 | C8: 0.013550271
A9: 45717 | B9: -0.025367156 | C9: 0.016147657
A10: 45748 | B10: -0.023240955 | C10: 0.012412723
A11: 45778 | B11: -0.023257461 | C11: 0.013351135
A12: 45809 | B12: -0.026490066 | C12: 0.016363277
A13: 45839 | B13: -0.024048096 | C13: 0.011921665
A14: 45870 | B14: -0.026315789 | C14: 0.014449174
... A26: 46235 | B26: -0.031952734 | C26: 0.014557513

Sheet FM.11
A1: Miðgildi verðmunar í milljónum króna
A2: Mánuður | B2: Miðgildi kr. undir | C2: Miðgildi kr. Yfir
A3: 45536 | B3: -1900000 | C3: 1000000
A4: 45566 | B4: -1900000 | C4: 1000000
A5: 45597 | B5: -1675000 | C5: 800000
A6: 45627 | B6: -1900000 | C6: 1100000
A7: 45658 | B7: -1900000 | C7: 1100000
A8: 45689 | B8: -1850000 | C8: 1000000
A9: 45717 | B9: -1900000 | C9: 1161000
A10: 45748 | B10: -1800000 | C10: 1100000
A11: 45778 | B11: -1700000 | C11: 1000000
A12: 45809 | B12: -1900000 | C12: 1100000
A13: 45839 | B13: -1900000 | C13: 1000000
A14: 45870 | B14: -1900000 | C14: 1000000
... A26: 46235 | B26: -2225000 | C26: 1100000

Sheet FM.12
A1: Hlutfall kaupsamninga undir og yfir verði eftir sölutíma
A2: Sölutími | B2: Alls | C2: Undir | D2: Yfir | E2: Jafnt
A3: 0–14 dagar | B3: 643 | C3: 0.57542768 | D3: 0.079315708 | E3: 0.34525661
A4: 15–30 dagar | B4: 3340 | C4: 0.68383234 | D4: 0.13682635 | E4: 0.17934132
A5: 31–60 dagar | B5: 6975 | C5: 0.70078853 | D5: 0.12602151 | E5: 0.17318996
A6: 61–90 dagar | B6: 2904 | C6: 0.71969697 | D6: 0.10433884 | E6: 0.17596419
A7: 91–180 dagar | B7: 1983 | C7: 0.71810388 | D7: 0.086737267 | E7: 0.19515885
A8: 181–365 dagar | B8: 358 | C8: 0.74581006 | D8: 0.078212291 | E8: 0.17597765
A9: 366+ dagar | B9: 55 | C9: 0.85454545 | D9: 0.018181818 | E9: 0.12727273

Sheet FM.13
A1: Framboð íbúða til sölu eftir lengd sölutilraunar
A2: Mánuðir | B2: Fjöldi
A3: 1 | B3: 1078
A4: 2 | B4: 617
A5: 3 | B5: 601
A6: 4 | B6: 428
A7: 5 | B7: 398
A8: 6 | B8: 381
A9: 7 | B9: 384
A10: 8 | B10: 278
A11: 9 | B11: 146
A12: 10 | B12: 206
A13: 11 | B13: 188
A14: 12 | B14: 212
... A26: 24 | B26: 70
A27: >24 | B27: 357
A28: alls | B28: 6599

Sheet Leigumarkaður
A1: Mánaðarskýrsla HMS - september 2026
A2: Leigumarkaður
A4: Myndir | B4: Titill myndar
A5: LEIGA.1 | B5: Byrði leigukostnaðar meðal heimila sem þiggja húsnæðisbætur
A6: LEIGA.2 | B6: Markaðsleiga og leiga í almenna íbúðakerfinu á höfuðborgarsvæðinu - meðalfermetraverð
A7: LEIGA.3 | B7: Vísitala leiguverðs
A8: LEIGA.4 | B8: Leigusamningar eftir tegund leigusala
A9: LEIGA.5 | B9: Meðalleiguverð á föstu verðlagi
A10: LEIGA.6 | B10: Húsnæðisstuðningur í samhengi við húsnæðisgreiðslur

Sheet LEIGA.1
A1: Byrði leigukostnaðar meðal heimila sem þiggja húsnæðisbætur
B2: 0-25% | C2: 25-100%
A3: Án bóta | B3: 0.22 | C3: 0.78
A4: Með bótum | B4: 0.49 | C4: 0.51

Sheet LEIGA.2
A1: Markaðsleiga og leiga í almenna íbúðakerfinu á höfuðborgarsvæðinu - meðalfermetraverð
A2: Dags. | B2: Svæði | C2: Almennar íbúðir | D2: Markaðsleiga
A3: 45292 | B3: Höfuðborgarsvæði | C3: 2788 | D3: 3443
A4: 45323 | B4: Höfuðborgarsvæði | C4: 2801 | D4: 3469
A5: 45352 | B5: Höfuðborgarsvæði | C5: 2800 | D5: 3478
A6: 45383 | B6: Höfuðborgarsvæði | C6: 2844 | D6: 3517
A7: 45413 | B7: Höfuðborgarsvæði | C7: 2876 | D7: 3543
A8: 45444 | B8: Höfuðborgarsvæði | C8: 2901 | D8: 3577
A9: 45474 | B9: Höfuðborgarsvæði | C9: 2950 | D9: 3610
A10: 45505 | B10: Höfuðborgarsvæði | C10: 2955 | D10: 3641
A11: 45536 | B11: Höfuðborgarsvæði | C11: 2973 | D11: 3672
A12: 45566 | B12: Höfuðborgarsvæði | C12: 2986 | D12: 3708
A13: 45597 | B13: Höfuðborgarsvæði | C13: 2983 | D13: 3727
A14: 45627 | B14: Höfuðborgarsvæði | C14: 3000 | D14: 3745
... A32: 46174 | B32: Höfuðborgarsvæði | C32: 3356 | D32: 4036

Sheet LEIGA.3
A1: Tólf mánaða breyting vísitölu leiguverðs
A2: Dagsetning | B2: Tólf mánaða nafnbreyting á vísitölu leiguverðs | C2: Tólf mánaða raunbreyting á vísitölu leiguverðs
A3: 44197 | B3: -0.020023557 | C3: -0.060422586
A4: 44228 | B4: -0.030732861 | C4: -0.068647039
A5: 44256 | B5: -0.0059737157 | C5: -0.047274525
A6: 44287 | B6: 0.0096501809 | C6: -0.034432282
A7: 44317 | B7: 0.034567901 | C7: -0.0093816327
A8: 44348 | B8: 0.0084541063 | C8: -0.03267044
A9: 44378 | B9: 0.016826923 | C9: -0.024775132
A10: 44409 | B10: 0.034813926 | C10: -0.0075361105
A11: 44440 | B11: 0.025179856 | C11: -0.017586403
A12: 44470 | B12: 0.030120482 | C12: -0.014413287
A13: 44501 | B13: 0.033452808 | C13: -0.014291503
A14: 44531 | B14: 0.039379475 | C14: -0.011046465
... A70: 46235 | B70: 0.042433947 | C70: -0.013094495
A72: Heimild: HMS

Sheet LEIGA.4
A1: Leigusamningar eftir tegund leigusala
A2: Dags | B2: Tegund leigusala | C2: Staða | D2: Fjöldi
A3: 2023-06 | B3: Einstaklingar | C3: Taka gildi | D3: 385
A4: 2023-07 | B4: Einstaklingar | C4: Taka gildi | D4: 338
A5: 2023-08 | B5: Einstaklingar | C5: Taka gildi | D5: 472
A6: 2023-09 | B6: Einstaklingar | C6: Taka gildi | D6: 644
A7: 2023-10 | B7: Einstaklingar | C7: Taka gildi | D7: 562
A8: 2023-11 | B8: Einstaklingar | C8: Taka gildi | D8: 560
A9: 2023-12 | B9: Einstaklingar | C9: Taka gildi | D9: 599
A10: 2024-01 | B10: Einstaklingar | C10: Taka gildi | D10: 625
A11: 2024-02 | B11: Einstaklingar | C11: Taka gildi | D11: 546
A12: 2024-03 | B12: Einstaklingar | C12: Taka gildi | D12: 539
A13: 2024-04 | B13: Einstaklingar | C13: Taka gildi | D13: 482
A14: 2024-05 | B14: Einstaklingar | C14: Taka gildi | D14: 540
... A275: 2026-08 | B275: Sveitarfélög | C275: Taka gildi | D275: 90
A276: 2023-06 | B276: Sveitarfélög | C276: Falla úr gildi
A277: 2023-07 | B277: Sveitarfélög | C277: Falla úr gildi | D277: -1
A278: 2023-08 | B278: Sveitarfélög | C278: Falla úr gildi
A279: 2023-09 | B279: Sveitarfélög | C279: Falla úr gildi | D279: -4
A280: 2023-10 | B280: Sveitarfélög | C280: Falla úr gildi | D280: -51
A281: 2023-11 | B281: Sveitarfélög | C281: Falla úr gildi | D281: -44
A282: 2023-12 | B282: Sveitarfélög | C282: Falla úr gildi | D282: -50
A283: 2024-01 | B283: Sveitarfélög | C283: Falla úr gildi | D283: -47
A284: 2024-02 | B284: Sveitarfélög | C284: Falla úr gildi | D284: -60
A285: 2024-03 | B285: Sveitarfélög | C285: Falla úr gildi | D285: -63
A286: 2024-04 | B286: Sveitarfélög | C286: Falla úr gildi | D286: -50
A287: 2024-05 | B287: Sveitarfélög | C287: Falla úr gildi | D287: -61
A288: 2024-06 | B288: Sveitarfélög | C288: Falla úr gildi | D288: -63
A289: 2024-07 | B289: Sveitarfélög | C289: Falla úr gildi | D289: -81
A290: 2024-08 | B290: Sveitarfélög | C290: Falla úr gildi | D290: -67
... A314: 2026-08 | B314: Sveitarfélög | C314: Falla úr gildi | D314: -88

Sheet LEIGA.5
A1: Meðalleiguverð á föstu verðlagi
A2: Dagsetning | B2: Meðalleigufjárhæð á föstu verðlagi | C2: Meðalleiguverð á fermetra á föstu verðlagi
A3: 45139 | B3: 197381.05 | C3: 3731.911
A4: 45170 | B4: 245369.17 | C4: 3621.6602
A5: 45200 | B5: 251717.74 | C5: 3697.6293
A6: 45231 | B6: 261433.39 | C6: 3641.3214
A7: 45261 | B7: 260409.9 | C7: 3616.5907
A8: 45292 | B8: 254421.23 | C8: 3661.5355
A9: 45323 | B9: 257566.49 | C9: 3705.9012
A10: 45352 | B10: 257558.8 | C10: 3666.5053
A11: 45383 | B11: 256777.49 | C11: 3755.2443
A12: 45413 | B12: 245783.53 | C12: 3742.4837
A13: 45444 | B13: 244822.84 | C13: 3746.9966
A14: 45474 | B14: 249767.56 | C14: 3825.2414
... A39: 46235 | B39: 196801.69 | C39: 3700.9266

Sheet LEIGA.6
A2: Húsnæðisgreiðslur með og án stuðnings
A3: % af ráðstöfunartekjum, miðgildi, fullir þátttakendur á vinnumarkaði, annars vegar fólk með íbúðalán og hins vegar leigjendur
A4: Ár | B4: Greiðslur af íbúðalánum | C4: Greiðslur af íbúðalánum að frádregnum vaxtabótum | D4: Húsaleiga | E4: Húsaleiga að frádregnum húsnæðisbótum
A5: 2018 | B5: 0.166 | C5: 0.162 | D5: 0.216 | E5: 0.191
A6: 2019 | B6: 0.169 | C6: 0.166 | D6: 0.22 | E6: 0.193
A7: 2020 | B7: 0.163 | C7: 0.16 | D7: 0.22 | E7: 0.198
A8: 2021 | B8: 0.155 | C8: 0.153 | D8: 0.219 | E8: 0.197
A9: 2022 | B9: 0.165 | C9: 0.163 | D9: 0.223 | E9: 0.203
A10: 2023 | B10: 0.188 | C10: 0.187 | D10: 0.219 | E10: 0.2
A11: 2024 | B11: 0.2 | C11: 0.199 | D11: 0.217 | E11: 0.197
A12: 2025 | B12: 0.205 | C12: 0.204 | D12: 0.229 | E12: 0.206
A16: Húsnæðisbætur og vaxtabætur
A17: % af ráðstöfunartekjum, miðgildi, fullir þátttakendur á vinnumarkaði, annars vegar fólk með íbúðalán og hins vegar leigjendur
A18: Tekjutíund launatekna | B18: Vaxtabætur-2023 | C18: Vaxtabætur-2025 | D18: Húsnæðisbætur-2023 | E18: Húsnæðisbætur-2025
A19: 1 | B19: 0.004 | C19: 0.002 | D19: 0.047 | E19: 0.055
A20: 2 | B20: 0.003 | C20: 0.001 | D20: 0.036 | E20: 0.041
A21: 3 | B21: 0.003 | C21: 0.002 | D21: 0.025 | E21: 0.028
A22: 4 | B22: 0.001 | C22: 0 | D22: 0.018 | E22: 0.023
A23: 5 | B23: 0.001 | C23: 0.001 | D23: 0.016 | E23: 0.015
A24: 6 | B24: 0 | C24: 0 | D24: 0.006 | E24: 0.013
A25: 7 | B25: 0 | C25: 0 | D25: 0.006 | E25: 0.009
A26: 8 | B26: 0 | C26: 0 | D26: 0.002 | E26: 0.003
A27: 9 | B27: 0 | C27: 0 | D27: 0.001 | E27: 0.001
A28: 10 | B28: 0 | C28: 0 | D28: 0 | E28: 0

Sheet Lánamarkaður
A1: Mánaðarskýrsla HMS - september 2026
A2: Lánamarkaður
A4: Myndir | B4: Titill myndar
A5: LM.1 | B5: Hrein ný íbúðalán fjármálastofnana til heimila á föstu verðlagi
A6: LM.2 | B6: Útistandandi húsnæðislán á föstu verðlagi í milljörðum króna
A7: LM.3 | B7: Tegund húsnæðislána eftir aldurshópum
A8: LM.4 | B8: Hlutfall húsnæðislánsþega eftir tegund láns og aldurshópi
A9: LM.5 | B9: Úthlutuð stofnframlög eftir úthlutunarári
A10: LM.6 | B10: Skatthlutfall bankaskatts

Sheet LM.1
A1: Hrein ný íbúðalán fjármálastofnana til heimila á föstu verðlagi
A2: Dagsetning | B2: Lánveitandi | C2: Verðtryggt/Óverðtryggt | D2: Upphæð á föstu verðlagi í ma.kr.
A3: 43101 | B3: Ný útlán banka | C3: Óverðtryggð útlán | D3: 6015.8236
A4: 43132 | B4: Ný útlán banka | C4: Óverðtryggð útlán | D4: 5482.943
A5: 43160 | B5: Ný útlán banka | C5: Óverðtryggð útlán | D5: 7860.1586
A6: 43191 | B6: Ný útlán banka | C6: Óverðtryggð útlán | D6: 7116.1831
A7: 43221 | B7: Ný útlán banka | C7: Óverðtryggð útlán | D7: 10181.595
A8: 43252 | B8: Ný útlán banka | C8: Óverðtryggð útlán | D8: 8734.9117
A9: 43282 | B9: Ný útlán banka | C9: Óverðtryggð útlán | D9: 8569.0884
A10: 43313 | B10: Ný útlán banka | C10: Óverðtryggð útlán | D10: 8395.1545
A11: 43344 | B11: Ný útlán banka | C11: Óverðtryggð útlán | D11: 11406.363
A12: 43374 | B12: Ný útlán banka | C12: Óverðtryggð útlán | D12: 15517.605
A13: 43405 | B13: Ný útlán banka | C13: Óverðtryggð útlán | D13: 21540.055
A14: 43435 | B14: Ný útlán banka | C14: Óverðtryggð útlán | D14: 15940.76
... A414: 46204 | B414: Ný útlán lífeyrissjóða | C414: Verðtryggð útlán | D414: 6198.4934

Sheet LM.2
A1: Útistandandi húsnæðislán á föstu verðlagi í milljörðum króna
A2: Tími | B2: Fjárhæð í milljörðum króna og föstu
A3: 42005 | B3: 2299.2698
A4: 42036 | B4: 2255.1149
A5: 42064 | B5: 2242.6333
A6: 42095 | B6: 2251.9278
A7: 42125 | B7: 2239.4896
A8: 42156 | B8: 2231.988
A9: 42186 | B9: 2221.6915
A10: 42217 | B10: 2221.4949
A11: 42248 | B11: 2247.8702
A12: 42278 | B12: 2241.4675
A13: 42309 | B13: 2241.4729
A14: 42339 | B14: 2216.6417
... A141: 46204 | B141: 3052.6594

Sheet LM.3
A1: Tegund húsnæðislána eftir aldurshópum
A2: Aldurshópur | B2: Með bæði verðtryggt og óverðtryggt | C2: Með verðtryggt | D2: Með óverðtryggt | E2: Skuldlausir eigendur | F2: Eiga ekki fasteign
A3: 25-29 | B3: 0.14 | C3: 0.14 | D3: 0.13 | E3: 0.06 | F3: 0.53
A4: 30-39 | B4: 0.16 | C4: 0.23 | D4: 0.26 | E4: 0.06 | F4: 0.29
A5: 40-49 | B5: 0.14 | C5: 0.33 | D5: 0.24 | E5: 0.09 | F5: 0.21
A6: 50-59 | B6: 0.12 | C6: 0.35 | D6: 0.21 | E6: 0.17 | F6: 0.16
A7: 60-69 | B7: 0.08 | C7: 0.3 | D7: 0.16 | E7: 0.31 | F7: 0.15
A8: 70-79 | B8: 0.04 | C8: 0.28 | D8: 0.08 | E8: 0.44 | F8: 0.16
A9: 80+ | B9: 0.01 | C9: 0.19 | D9: 0.04 | E9: 0.53 | F9: 0.23
A11: Heimild: Fjármála- og efnahagsráðuneytið

Sheet LM.4
A1: Hlutfall húsnæðislánsþega eftir tegund láns og aldurshópi
A2: Aldurshópur | B2: Með bæði verðtryggt og óverðtryggt | C2: Með verðtryggt | D2: Með óverðtryggt
A3: 25-29 | B3: 0.34146341 | C3: 0.34146341 | D3: 0.31707317
A4: 30-39 | B4: 0.24615385 | C4: 0.35384615 | D4: 0.4
A5: 40-49 | B5: 0.1971831 | C5: 0.46478873 | D5: 0.33802817
A6: 50-59 | B6: 0.17647059 | C6: 0.51470588 | D6: 0.30882353
A7: 60-69 | B7: 0.14814815 | C7: 0.55555556 | D7: 0.2962963
A8: 70-79 | B8: 0.1 | C8: 0.7 | D8: 0.2
A9: 80+ | B9: 0.041666667 | C9: 0.79166667 | D9: 0.16666667
A11: Heimild: Fjármála- og efnahagsráðuneytið

Sheet LM.5
A1: Úthlutuð stofnframlög eftir úthlutunarári
A2: Ár | B2: Úthlutað
A3: 2019 | B3: 3397034678
A4: 2020 | B4: 3362331301
A5: 2021 | B5: 2422450725
A6: 2022 | B6: 2929415768
A7: 2023 | B7: 5983556019
A8: 2024 | B8: 6129384228
A9: 2025 | B9: 4147967959
A10: 2026 | B10: 3614269687

Sheet LM.6
A1: Skatthlutfall bankaskatts
A2: Ár | B2: Skatthlutfall
A3: 2011 | B3: 0.00041
A4: 2012 | B4: 0.00041
A5: 2013 | B5: 0.00041
A6: 2014 | B6: 0.00376
A7: 2015 | B7: 0.00376
A8: 2016 | B8: 0.00376
A9: 2017 | B9: 0.00376
A10: 2018 | B10: 0.00376
A11: 2019 | B11: 0.00376
A12: 2020 | B12: 0.00145
A13: 2021 | B13: 0.00145
A14: 2022 | B14: 0.00145
... A19: 2027 | B19: 0.00254
A21: Heimild: Skatturinn og Alþingi

Sheet Byggingarmarkaður
A1: Mánaðarskýrsla HMS - september 2026
A2: Byggingarmarkaður
A4: Myndir | B4: Titill myndar
A5: BM.1 | B5: Velta í byggingariðnaði
A6: BM.2 | B6: Hlutfall skulda af veltu á ársgrundvelli
A7: BM.3 | B7: Eignfjárhlutfall félaga í byggingu húsnæðis
A8: BM.4 | B8: Landsframleiðsla og íbúðafjárfesting
A9: BM.5 | B9: Fjöldi starfandi í byggingarstarfsemi og mannvirkjagerð
A10: BM.6 | B10: Nýskráningar og gjaldþrot
A11: BM.7 | B11: Nýjar fullbúnar íbúðir sem hafa ekki verið teknar í notkun

Sheet BM.1
A1: Velta í byggingariðnaði
A2: Árstíðaleiðrétt velta á föstu verðlagi ( ma.kr.)
A3: Atvinnugrein | B3: Tímabil | C3: Tími | D3: Gildi
A4: 41 Bygging húsnæðis; þróun byggingarverkefna | B4: Jan.-feb. | C4: 42767 | D4: 41988.925
A5: 41 Bygging húsnæðis; þróun byggingarverkefna | B5: Mars-apríl | C5: 42826 | D5: 43802.028
A6: 41 Bygging húsnæðis; þróun byggingarverkefna | B6: Maí-júní | C6: 42887 | D6: 45970.28
A7: 41 Bygging húsnæðis; þróun byggingarverkefna | B7: Júlí-ágúst | C7: 42948 | D7: 44270.458
A8: 41 Bygging húsnæðis; þróun byggingarverkefna | B8: Sept.-okt. | C8: 43009 | D8: 45744.838
A9: 41 Bygging húsnæðis; þróun byggingarverkefna | B9: Nóv.-des. | C9: 43070 | D9: 45788.46
A10: 41 Bygging húsnæðis; þróun byggingarverkefna | B10: Jan.-feb. | C10: 43132 | D10: 47175.562
A11: 41 Bygging húsnæðis; þróun byggingarverkefna | B11: Mars-apríl | C11: 43191 | D11: 47788.507
A12: 41 Bygging húsnæðis; þróun byggingarverkefna | B12: Maí-júní | C12: 43252 | D12: 49433.464
A13: 41 Bygging húsnæðis; þróun byggingarverkefna | B13: Júlí-ágúst | C13: 43313 | D13: 47447.6
A14: 41 Bygging húsnæðis; þróun byggingarverkefna | B14: Sept.-okt. | C14: 43374 | D14: 49232.968
A15: 41 Bygging húsnæðis; þróun byggingarverkefna | B15: Nóv.-des. | C15: 43435 | D15: 48328.796
... A174: 43 Sérhæfð byggingarstarfsemi | B174: Maí-júní | C174: 46174 | D174: 51923.117
A177: Heimild: Hagdeild HMS og Hagstofa Íslands

Sheet BM.2
A1: Hlutfall skulda af veltu á ársgrundvelli
A2: Ár | B2: Velta | C2: Skuldir | D2: Hlutfall
A3: 2008 | B3: 259516.7 | C3: 162280.29 | D3: 0.62531735
A4: 2009 | B4: 150112.5 | C4: 212222.67 | D4: 1.4137575
A5: 2010 | B5: 123186.3 | C5: 213837.8 | D5: 1.7358894
A6: 2011 | B6: 120114.4 | C6: 167264.68 | D6: 1.3925447
A7: 2012 | B7: 128579.2 | C7: 102811.35 | D7: 0.79959552
A8: 2013 | B8: 147948.7 | C8: 84791.929 | D8: 0.5731171
A9: 2014 | B9: 169762.2 | C9: 81698.903 | D9: 0.48125497
A10: 2015 | B10: 201875.7 | C10: 88009.333 | D10: 0.43595803
A11: 2016 | B11: 282423 | C11: 103604.92 | D11: 0.36684308
A12: 2017 | B12: 319628.6 | C12: 122959.4 | D12: 0.38469461
A13: 2018 | B13: 356436.8 | C13: 142564.28 | D13: 0.39997072
A14: 2019 | B14: 367762.7 | C14: 172404.22 | D14: 0.46879201
... A20: 2025 | B20: 698953.5 | C20: 336360.47 | D20: 0.4812344
A22: Heimild: Hagdeild HMS og Hagstofa Íslands

Sheet BM.3
A1: Eiginfjárhlutfall félaga í byggingu húsnæðis
A2: Ár | B2: Eiginfjárhlutfall
A3: 2015 | B3: 0.18750394
A4: 2016 | B4: 0.19487628
A5: 2017 | B5: 0.21282392
A6: 2018 | B6: 0.2309182
A7: 2019 | B7: 0.24126601
A8: 2020 | B8: 0.27161947
A9: 2021 | B9: 0.30512068
A10: 2022 | B10: 0.3127576
A11: 2023 | B11: 0.32215441
A12: 2024 | B12: 0.31705244
A14: Heimild: Hagstofa Íslands

Sheet BM.4
A1: Landsframleiðsla og íbúðafjárfesting
A2: Ársfjórðungur | B2: Íbúðafjárfesting í milljónum króna | C2: Verg Landsframleiðsla í milljónum króna
A3: 1995Á1 | B3: 17914 | C3: 343289
A4: 1995Á2 | B4: 17802 | C4: 370920
A5: 1995Á3 | B5: 19141 | C5: 389405
A6: 1995Á4 | B6: 20997 | C6: 391171
A7: 1996Á1 | B7: 19376 | C7: 371954
A8: 1996Á2 | B8: 19424 | C8: 386934
A9: 1996Á3 | B9: 20520 | C9: 399546
A10: 1996Á4 | B10: 22287 | C10: 403581
A11: 1997Á1 | B11: 17439 | C11: 387177
A12: 1997Á2 | B12: 17402 | C12: 402156
A13: 1997Á3 | B13: 18496 | C13: 417705
A14: 1997Á4 | B14: 20336 | C14: 419659
... A128: 2026Á2 | B128: 38377 | C128: 878507

Sheet BM.5
A1: Fjöldi starfandi í byggingarstarfsemi og mannvirkjagerð
A2: Tími | B2: Atvinnugrein | C2: Fjöldi starfandi | D2: 12 mánaða hlaupandi meðaltal | E2: Breyting hlaupandi meðaltal
A3: 41640 | B3: F - Byggingarstarfsemi og mannvirkjagerð | C3: 8494
A4: 41671 | B4: F - Byggingarstarfsemi og mannvirkjagerð | C4: 8532
A5: 41699 | B5: F - Byggingarstarfsemi og mannvirkjagerð | C5: 8717
A6: 41730 | B6: F - Byggingarstarfsemi og mannvirkjagerð | C6: 8872
A7: 41760 | B7: F - Byggingarstarfsemi og mannvirkjagerð | C7: 9415
A8: 41791 | B8: F - Byggingarstarfsemi og mannvirkjagerð | C8: 9894
A9: 41821 | B9: F - Byggingarstarfsemi og mannvirkjagerð | C9: 9967
A10: 41852 | B10: F - Byggingarstarfsemi og mannvirkjagerð | C10: 9974
A11: 41883 | B11: F - Byggingarstarfsemi og mannvirkjagerð | C11: 9526
A12: 41913 | B12: F - Byggingarstarfsemi og mannvirkjagerð | C12: 9572
A13: 41944 | B13: F - Byggingarstarfsemi og mannvirkjagerð | C13: 9598
A14: 41974 | B14: F - Byggingarstarfsemi og mannvirkjagerð | C14: 9640 | D14: 9350.0833
A15: 42005 | B15: F - Byggingarstarfsemi og mannvirkjagerð | C15: 9290 | D15: 9416.4167 | E15: 0.0070944109
A16: 42036 | B16: F - Byggingarstarfsemi og mannvirkjagerð | C16: 9299 | D16: 9480.3333 | E16: 0.0067877908
A17: 42064 | B17: F - Byggingarstarfsemi og mannvirkjagerð | C17: 9415 | D17: 9538.5 | E17: 0.0061355086
A18: 42095 | B18: F - Byggingarstarfsemi og mannvirkjagerð | C18: 9590 | D18: 9598.3333 | E18: 0.0062728242
A19: 42125 | B19: F - Byggingarstarfsemi og mannvirkjagerð | C19: 10251 | D19: 9668 | E19: 0.0072582045
A20: 42156 | B20: F - Byggingarstarfsemi og mannvirkjagerð | C20: 10836 | D20: 9746.5 | E20: 0.0081195697
A21: 42186 | B21: F - Byggingarstarfsemi og mannvirkjagerð | C21: 10924 | D21: 9826.25 | E21: 0.0081824245
A22: 42217 | B22: F - Byggingarstarfsemi og mannvirkjagerð | C22: 10861 | D22: 9900.1667 | E22: 0.0075223678
A23: 42248 | B23: F - Byggingarstarfsemi og mannvirkjagerð | C23: 10355 | D23: 9969.25 | E23: 0.006977997
A24: 42278 | B24: F - Byggingarstarfsemi og mannvirkjagerð | C24: 10448 | D24: 10042.25 | E24: 0.0073225167
A25: 42309 | B25: F - Byggingarstarfsemi og mannvirkjagerð | C25: 10529 | D25: 10119.833 | E25: 0.0077256923
A26: 42339 | B26: F - Byggingarstarfsemi og mannvirkjagerð | C26: 10514 | D26: 10192.667 | E26: 0.0071970882
... A153: 46204 | B153: F - Byggingarstarfsemi og mannvirkjagerð | C153: 19600 | D153: 19138.417 | E153: -0.002007622
A155: Heimild: Hagstofa Íslands

Sheet BM.6
A1: Nýskráningar og gjaldþrot
A2: Tími | B2: Atvinnugrein | C2: Gjaldþrot | D2: Nýskráningar
A3: 45292 | B3: Byggingarstarfsemi og mannvirkjagerð | C3: 33 | D3: 54
A4: 45323 | B4: Byggingarstarfsemi og mannvirkjagerð | C4: 33 | D4: 46
A5: 45352 | B5: Byggingarstarfsemi og mannvirkjagerð | C5: 30 | D5: 34
A6: 45383 | B6: Byggingarstarfsemi og mannvirkjagerð | C6: 30 | D6: 39
A7: 45413 | B7: Byggingarstarfsemi og mannvirkjagerð | C7: 12 | D7: 61
A8: 45444 | B8: Byggingarstarfsemi og mannvirkjagerð | C8: 7 | D8: 49
A9: 45474 | B9: Byggingarstarfsemi og mannvirkjagerð | C9: 3 | D9: 48
A10: 45505 | B10: Byggingarstarfsemi og mannvirkjagerð | C10: 2 | D10: 43
A11: 45536 | B11: Byggingarstarfsemi og mannvirkjagerð | C11: 12 | D11: 50
A12: 45566 | B12: Byggingarstarfsemi og mannvirkjagerð | C12: 21 | D12: 46
A13: 45597 | B13: Byggingarstarfsemi og mannvirkjagerð | C13: 36 | D13: 38
A14: 45627 | B14: Byggingarstarfsemi og mannvirkjagerð | C14: 11 | D14: 29
... A34: 46235 | B34: Byggingarstarfsemi og mannvirkjagerð | C34: 3 | D34: 27
A36: Heimild: Hagstofa Íslands

Sheet BM.7
A1: Nýjar fullbúnar íbúðir sem hafa ekki verið teknar í notkun
A2: Talning | B2: Fjöldi íbúða
A3: 44440 | B3: 199
A4: 44621 | B4: 75
A5: 44805 | B5: 131
A6: 44986 | B6: 238
A7: 45170 | B7: 777
A8: 45352 | B8: 628
A9: 45536 | B9: 606
A10: 45717 | B10: 707
A11: 45901 | B11: 1002
A12: 46082 | B12: 1409
A13: 46266 | B13: 1856
